OziExplorer Map Data File Version 2.2
ZRR.ozfx3
C:\Documents and Settings\Administrator\Desktop\New Briefcase\Projects\ZRR\GSMaps\ZRR.ozfx3
1 ,Map Code,
WGS 84,, 0.0000, 0.0000,WGS 84
Reserved 1
Reserved 2
Magnetic Variation,,,E
Map Projection,Latitude/Longitude,PolyCal,No,AutoCalOnly,No,BSBUseWPX,No
Point01,xy, 594, 531,in, deg, 27, 32.2998,S, 31, 47.5386,E, grid, , , ,N
Point02,xy, 4626, 1732,in, deg, 27, 37.4298,S, 32, 4.7406,E, grid, , , ,N
Point03,xy, 7027, 7031,in, deg, 28, 0.02838,S, 32,15.01092,E, grid, , , ,N
Point04,xy, 1090, 6191,in, deg, 27, 56.4732,S, 31, 49.6344,E, grid, , , ,N
Point05,xy, 3948, 3162,in, deg, 27, 43.5324,S, 32, 1.836,E, grid, , , ,N
Point06,xy, , ,in, deg, , ,S, , ,E, grid, , , ,N
Point07,xy, 6040, 5682,in, deg, 27, 54.2766,S, 32, 10.7838,E, grid, , , ,N
Point08,xy, 3436, 4015,in, deg, 27, 47.1696,S, 31, 59.6538,E, grid, , , ,N
Point09,xy, 4994, 4627,in, deg, 27, 49.7856,S, 32, 6.324,E, grid, , , ,N
Point10,xy, , ,in, deg, , ,S, , ,E, grid, , , ,N
Point11,xy, , ,in, deg, , ,S, , ,E, grid, , , ,N
Point12,xy, , ,in, deg, , ,S, , ,E, grid, , , ,N
Point13,xy, , ,in, deg, , ,S, , ,E, grid, , , ,N
Point14,xy, , ,in, deg, , ,S, , ,E, grid, , , ,N
Point15,xy, , ,in, deg, , ,S, , ,E, grid, , , ,N
Point16,xy, , ,in, deg, , ,S, , ,E, grid, , , ,N
Point17,xy, , ,in, deg, , ,S, , ,E, grid, , , ,N
Point18,xy, , ,in, deg, , ,S, , ,E, grid, , , ,N
Point19,xy, , ,in, deg, , ,S, , ,E, grid, , , ,N
Point20,xy, , ,in, deg, , ,S, , ,E, grid, , , ,N
Point21,xy, , ,in, deg, , ,S, , ,E, grid, , , ,N
Point22,xy, , ,in, deg, , ,S, , ,E, grid, , , ,N
Point23,xy, , ,in, deg, , ,S, , ,E, grid, , , ,N
Point24,xy, , ,in, deg, , ,S, , ,E, grid, , , ,N
Point25,xy, , ,in, deg, , ,S, , ,E, grid, , , ,N
Point26,xy, , ,in, deg, , ,S, , ,E, grid, , , ,N
Point27,xy, , ,in, deg, , ,S, , ,E, grid, , , ,N
Point28,xy, , ,in, deg, , ,S, , ,E, grid, , , ,N
Point29,xy, , ,in, deg, , ,S, , ,E, grid, , , ,N
Point30,xy, , ,in, deg, , ,S, , ,E, grid, , , ,N
Projection Setup,,,,,,,,,,
Map Feature = MF ; Map Comment = MC These follow if they exist
Track File = TF These follow if they exist
Moving Map Parameters = MM? These follow if they exist
MM0,Yes
MMPNUM,4
MMPXY,1,0,0
MMPXY,2,7027,0
MMPXY,3,7027,7031
MMPXY,4,0,7031
MMPLL,1, 31.749773, -27.500730
MMPLL,2, 32.250081, -27.500359
MMPLL,3, 32.250001, -28.000588
MMPLL,4, 31.749693, -28.000958
MM1B,7.011713
MOP,Map Open Position,0,0
IWH,Map Image Width/Height,7027,7031
